BEGIN:VCALENDAR
VERSION:2.0
PRODID:-//NADI Taman Cengal Emas - ECPv6.15.13.1//NONSGML v1.0//EN
CALSCALE:GREGORIAN
METHOD:PUBLISH
X-WR-CALNAME:NADI Taman Cengal Emas
X-ORIGINAL-URL:https://tmncengalemas.nadi.my
X-WR-CALDESC:Events for NADI Taman Cengal Emas
REFRESH-INTERVAL;VALUE=DURATION:PT1H
X-Robots-Tag:noindex
X-PUBLISHED-TTL:PT1H
BEGIN:VTIMEZONE
TZID:UTC
BEGIN:STANDARD
TZOFFSETFROM:+0000
TZOFFSETTO:+0000
TZNAME:UTC
DTSTART:20230101T000000
END:STANDARD
END:VTIMEZONE
BEGIN:VEVENT
DTSTART;TZID=UTC:20241004T100000
DTEND;TZID=UTC:20241012T130000
DTSTAMP:20260421T044722
CREATED:20241003T140916Z
LAST-MODIFIED:20241003T140916Z
UID:3433-1728036000-1728738000@tmncengalemas.nadi.my
SUMMARY:Bengkel ICT
DESCRIPTION:Bengkel ICT
URL:https://tmncengalemas.nadi.my/event/bengkel-ict-8/
LOCATION:NADI TAMAN CENGAL EMAS\, NADI TAMAN CENGAL EMAS
CATEGORIES:DEFAULT
END:VEVENT
END:VCALENDAR