BEGIN:VCALENDAR
VERSION:2.0
PRODID:-//NADI Taman Cengal Emas - ECPv6.15.20//NONSGML v1.0//EN
CALSCALE:GREGORIAN
METHOD:PUBLISH
X-WR-CALNAME:NADI Taman Cengal Emas
X-ORIGINAL-URL:https://tmncengalemas.nadi.my
X-WR-CALDESC:Events for NADI Taman Cengal Emas
REFRESH-INTERVAL;VALUE=DURATION:PT1H
X-Robots-Tag:noindex
X-PUBLISHED-TTL:PT1H
BEGIN:VTIMEZONE
TZID:UTC
BEGIN:STANDARD
TZOFFSETFROM:+0000
TZOFFSETTO:+0000
TZNAME:UTC
DTSTART:20230101T000000
END:STANDARD
END:VTIMEZONE
BEGIN:VEVENT
DTSTART;TZID=UTC:20240730T100000
DTEND;TZID=UTC:20240731T130000
DTSTAMP:20260423T194914
CREATED:20240701T143947Z
LAST-MODIFIED:20240701T143947Z
UID:3415-1722333600-1722430800@tmncengalemas.nadi.my
SUMMARY:Menjual Di Shopee
DESCRIPTION:Menjual Di Shopee
URL:https://tmncengalemas.nadi.my/event/menjual-di-shopee/
LOCATION:NADI TAMAN CENGAL EMAS\, NADI TAMAN CENGAL EMAS
CATEGORIES:DEFAULT
END:VEVENT
END:VCALENDAR