BEGIN:VCALENDAR
VERSION:2.0
PRODID:-//NADI Taman Cengal Emas - ECPv6.15.20//NONSGML v1.0//EN
CALSCALE:GREGORIAN
METHOD:PUBLISH
X-WR-CALNAME:NADI Taman Cengal Emas
X-ORIGINAL-URL:https://tmncengalemas.nadi.my
X-WR-CALDESC:Events for NADI Taman Cengal Emas
REFRESH-INTERVAL;VALUE=DURATION:PT1H
X-Robots-Tag:noindex
X-PUBLISHED-TTL:PT1H
BEGIN:VTIMEZONE
TZID:UTC
BEGIN:STANDARD
TZOFFSETFROM:+0000
TZOFFSETTO:+0000
TZNAME:UTC
DTSTART:20230101T000000
END:STANDARD
END:VTIMEZONE
BEGIN:VEVENT
DTSTART;TZID=UTC:20240705T100000
DTEND;TZID=UTC:20240727T130000
DTSTAMP:20260424T034519
CREATED:20240701T140926Z
LAST-MODIFIED:20240701T140926Z
UID:3407-1720173600-1722085200@tmncengalemas.nadi.my
SUMMARY:Bengkel ICT
DESCRIPTION:Bengkel ICT
URL:https://tmncengalemas.nadi.my/event/bengkel-ict-6/
LOCATION:NADI TAMAN CENGAL EMAS\, NADI TAMAN CENGAL EMAS
CATEGORIES:DEFAULT
END:VEVENT
BEGIN:VEVENT
DTSTART;TZID=UTC:20240719T150000
DTEND;TZID=UTC:20240719T170000
DTSTAMP:20260424T034519
CREATED:20240701T143454Z
LAST-MODIFIED:20240701T143454Z
UID:3412-1721401200-1721408400@tmncengalemas.nadi.my
SUMMARY:PERKESO (Caruman)
DESCRIPTION: PERKESO (Caruman)
URL:https://tmncengalemas.nadi.my/event/perkeso-caruman-3/
LOCATION:NADI TAMAN CENGAL EMAS\, NADI TAMAN CENGAL EMAS
CATEGORIES:DEFAULT
END:VEVENT
END:VCALENDAR