BEGIN:VCALENDAR
VERSION:2.0
PRODID:-//NADI Taman Cengal Emas - ECPv6.15.20//NONSGML v1.0//EN
CALSCALE:GREGORIAN
METHOD:PUBLISH
X-WR-CALNAME:NADI Taman Cengal Emas
X-ORIGINAL-URL:https://tmncengalemas.nadi.my
X-WR-CALDESC:Events for NADI Taman Cengal Emas
REFRESH-INTERVAL;VALUE=DURATION:PT1H
X-Robots-Tag:noindex
X-PUBLISHED-TTL:PT1H
BEGIN:VTIMEZONE
TZID:UTC
BEGIN:STANDARD
TZOFFSETFROM:+0000
TZOFFSETTO:+0000
TZNAME:UTC
DTSTART:20230101T000000
END:STANDARD
END:VTIMEZONE
BEGIN:VEVENT
DTSTART;TZID=UTC:20240616T140000
DTEND;TZID=UTC:20240616T170000
DTSTAMP:20260424T062756
CREATED:20240602T173435Z
LAST-MODIFIED:20240602T173435Z
UID:3401-1718546400-1718557200@tmncengalemas.nadi.my
SUMMARY:Kelas Asas Komputer Microsoft Office Power point : Mereka Cipta Poster
DESCRIPTION:Kelas Asas Komputer Microsoft Office Power point : Mereka Cipta Poster
URL:https://tmncengalemas.nadi.my/event/kelas-asas-komputer-microsoft-office-power-point-mereka-cipta-poster/
LOCATION:NADI TAMAN CENGAL EMAS\, NADI TAMAN CENGAL EMAS
CATEGORIES:DEFAULT
END:VEVENT
END:VCALENDAR