BEGIN:VCALENDAR
VERSION:2.0
PRODID:-//NADI Taman Cengal Emas - ECPv6.15.20//NONSGML v1.0//EN
CALSCALE:GREGORIAN
METHOD:PUBLISH
X-WR-CALNAME:NADI Taman Cengal Emas
X-ORIGINAL-URL:https://tmncengalemas.nadi.my
X-WR-CALDESC:Events for NADI Taman Cengal Emas
REFRESH-INTERVAL;VALUE=DURATION:PT1H
X-Robots-Tag:noindex
X-PUBLISHED-TTL:PT1H
BEGIN:VTIMEZONE
TZID:UTC
BEGIN:STANDARD
TZOFFSETFROM:+0000
TZOFFSETTO:+0000
TZNAME:UTC
DTSTART:20230101T000000
END:STANDARD
END:VTIMEZONE
BEGIN:VEVENT
DTSTART;TZID=UTC:20240614T090000
DTEND;TZID=UTC:20240614T130000
DTSTAMP:20260425T022307
CREATED:20240602T173151Z
LAST-MODIFIED:20240602T173151Z
UID:3399-1718355600-1718370000@tmncengalemas.nadi.my
SUMMARY:Kenali Aplikasi Microsoft Office Power Point : Biodata Saya
DESCRIPTION:Kenali Aplikasi Microsoft Office Power Point : Biodata Saya
URL:https://tmncengalemas.nadi.my/event/kenali-aplikasi-microsoft-office-power-point-biodata-saya/
LOCATION:NADI TAMAN CENGAL EMAS\, NADI TAMAN CENGAL EMAS
CATEGORIES:DEFAULT
END:VEVENT
END:VCALENDAR