BEGIN:VCALENDAR
VERSION:2.0
PRODID:-//NADI Taman Cengal Emas - ECPv6.15.20//NONSGML v1.0//EN
CALSCALE:GREGORIAN
METHOD:PUBLISH
X-WR-CALNAME:NADI Taman Cengal Emas
X-ORIGINAL-URL:https://tmncengalemas.nadi.my
X-WR-CALDESC:Events for NADI Taman Cengal Emas
REFRESH-INTERVAL;VALUE=DURATION:PT1H
X-Robots-Tag:noindex
X-PUBLISHED-TTL:PT1H
BEGIN:VTIMEZONE
TZID:UTC
BEGIN:STANDARD
TZOFFSETFROM:+0000
TZOFFSETTO:+0000
TZNAME:UTC
DTSTART:20230101T000000
END:STANDARD
END:VTIMEZONE
BEGIN:VEVENT
DTSTART;TZID=UTC:20240510T150000
DTEND;TZID=UTC:20240510T170000
DTSTAMP:20260425T152702
CREATED:20240503T152700Z
LAST-MODIFIED:20240503T152700Z
UID:3383-1715353200-1715360400@tmncengalemas.nadi.my
SUMMARY:Kenali Aplikasi Micorosoft Power Point
DESCRIPTION:Kenali Aplikasi Micorosoft Power Point
URL:https://tmncengalemas.nadi.my/event/kenali-aplikasi-micorosoft-power-point/
LOCATION:NADI TAMAN CENGAL EMAS\, NADI TAMAN CENGAL EMAS
CATEGORIES:DEFAULT
END:VEVENT
END:VCALENDAR