BEGIN:VCALENDAR
VERSION:2.0
PRODID:-//NADI Taman Cengal Emas - ECPv6.15.20//NONSGML v1.0//EN
CALSCALE:GREGORIAN
METHOD:PUBLISH
X-WR-CALNAME:NADI Taman Cengal Emas
X-ORIGINAL-URL:https://tmncengalemas.nadi.my
X-WR-CALDESC:Events for NADI Taman Cengal Emas
REFRESH-INTERVAL;VALUE=DURATION:PT1H
X-Robots-Tag:noindex
X-PUBLISHED-TTL:PT1H
BEGIN:VTIMEZONE
TZID:UTC
BEGIN:STANDARD
TZOFFSETFROM:+0000
TZOFFSETTO:+0000
TZNAME:UTC
DTSTART:20230101T000000
END:STANDARD
END:VTIMEZONE
BEGIN:VEVENT
DTSTART;TZID=UTC:20240405T100000
DTEND;TZID=UTC:20240427T130000
DTSTAMP:20260425T150559
CREATED:20240401T154216Z
LAST-MODIFIED:20240401T154216Z
UID:3368-1712311200-1714222800@tmncengalemas.nadi.my
SUMMARY:Kelas Asas Komputer
DESCRIPTION:Kelas Asas Komputer
URL:https://tmncengalemas.nadi.my/event/kelas-asas-komputer-9/
LOCATION:PEDi TAMAN CENGAL EMAS\, PEDi TAMAN CENGAL EMAS
CATEGORIES:DEFAULT
END:VEVENT
END:VCALENDAR